BEGIN:VCALENDAR
VERSION:2.0
PRODID:-//eventon.com NONSGML v1.0//EN
CALSCALE:GREGORIAN
METHOD:PUBLISH
BEGIN:VEVENT
UID:69e74b213892d
DTSTAMP:20260421T110209
DTSTART:20230617
DTEND:20230619
TZID:Pacific/Midway
LOCATION:
SUMMARY:TEXTILE REPURPOSING WORKSHOPS
DESCRIPTION:TEXTILE REPURPOSING WORKSHOPS ​Sat 17 and Sun 18 June 2023 £40/£28 each 10.30am-3.30pm ​​Northlight Art Studio\,  Hebden Bridge\nhttps://hebdenbridge.org/events/textile-repurposing-workshops/
URL:https://hebdenbridge.org/events/textile-repurposing-workshops/
END:VEVENT
END:VCALENDAR