BEGIN:VCALENDAR
VERSION:2.0
PRODID:-//eventon.com NONSGML v1.0//EN
CALSCALE:GREGORIAN
METHOD:PUBLISH
BEGIN:VEVENT
UID:69e74b883b7f0
DTSTAMP:20260421T110352
DTSTART:20220908T190000Z
DTEND:20220908T220000Z
TZID:Pacific/Midway
LOCATION:
SUMMARY:MUCH ADO ABOUT NOTHING
DESCRIPTION:MUCH ADO ABOUT NOTHING Katherine Parkinson(The IT Crowd) and John Heffernan (Dracula) lead the cast in Shakespeare’s romcom of sun\,  sea and mistaken identity. The legendary family-run Hotel Messina on the Italian Riveria has been visited by artists\,  celebrities and royalty.But when the owner’s daughter weds a dashing young soldier\, [..]\nhttps://hebdenbridge.org/events/much-ado-about-nothing/
URL:https://hebdenbridge.org/events/much-ado-about-nothing/
END:VEVENT
END:VCALENDAR