BEGIN:VCALENDAR
VERSION:2.0
PRODID:-//eventon.com NONSGML v1.0//EN
CALSCALE:GREGORIAN
METHOD:PUBLISH
BEGIN:VEVENT
UID:69e74c510b08c
DTSTAMP:20260421T110713
DTSTART:20210703T130000Z
DTEND:20210703T150000Z
TZID:Pacific/Midway
LOCATION:
SUMMARY:St John's Community Picnic and Duck Race
DESCRIPTION:Duck Race on Cragg Brook ( ducks available to buy in advance- check Friends of Erringden Facebook page for details of how to buy your duck! Can buy on the day if any left) Drinks and cakes for sale Tombola Garden games ( Giant Jenga\,  bowls\,  Croquet etc) to play[..]\nhttps://hebdenbridge.org/events/st-johns-community-picnic-and-duck-race/
URL:https://hebdenbridge.org/events/st-johns-community-picnic-and-duck-race/
END:VEVENT
END:VCALENDAR