BEGIN:VCALENDAR
VERSION:2.0
PRODID:-//eventon.com NONSGML v1.0//EN
CALSCALE:GREGORIAN
METHOD:PUBLISH
BEGIN:VEVENT
UID:69e50ef5098a1
DTSTAMP:20260419T182053
DTSTART:20190824T100000Z
DTEND:20190824T160000Z
TZID:UTC
LOCATION:
SUMMARY:Photography for your creative business with Sarah Mason
DESCRIPTION:Saturday 24th Aug 10am &#8211; 4pm Working with artists\,  makers and creative thinkers in our brand work\,  we know how important photography is in showcasing your beautiful products\,  but also telling your story\,  and showing your processes. I guess we’re all curious souls\,  I know how much me and Suzi[..]\nhttps://hebdenbridge.org/events/photography-for-your-creative-business-with-sarah-mason/
URL:https://hebdenbridge.org/events/photography-for-your-creative-business-with-sarah-mason/
END:VEVENT
END:VCALENDAR