BEGIN:VCALENDAR
VERSION:2.0
PRODID:-//eventon.com NONSGML v1.0//EN
CALSCALE:GREGORIAN
METHOD:PUBLISH
BEGIN:VEVENT
UID:69e82b7628ba3
DTSTAMP:20260422T025918
DTSTART:20190824
DTEND:20190901
TZID:UTC
LOCATION:
SUMMARY:Hebden Bridge Camera Club Annual Exhibition
DESCRIPTION:Hebden Bridge Camera Club annual exhibition will be opening on Saturday 24th April at the Hebden Bridge Town Hall and runs until the 31st. The exhibition will be open daily from 10am until 4pm (except on Bank Holiday Monday (26th) where unfortunately the Town Hall is closed). Entry is free.[..]\nhttps://hebdenbridge.org/events/hebden-bridge-camera-club-annual-exhibition-2/
URL:https://hebdenbridge.org/events/hebden-bridge-camera-club-annual-exhibition-2/
END:VEVENT
END:VCALENDAR