BEGIN:VCALENDAR
VERSION:2.0
PRODID:-//eventon.com NONSGML v1.0//EN
CALSCALE:GREGORIAN
METHOD:PUBLISH
BEGIN:VEVENT
UID:69e4e34082e9e
DTSTAMP:20260419T151424
DTSTART:20190801T120000Z
DTEND:20190801T150000Z
TZID:UTC
LOCATION:
SUMMARY:Build a Den - Hardcastle Crags
DESCRIPTION:Build yourself a den in the woods and tick off another of your &#8217;50 Things&#8217;. Suitability Dogs on leads are welcome. Meeting point The den building area is about 1.5 miles from the car park at Midgehole &#8211; follow the signs from Gibson Mill. What to bring and wear Wear[..]\nhttps://hebdenbridge.org/events/build-a-den-hardcastle-crags-1aug/
URL:https://hebdenbridge.org/events/build-a-den-hardcastle-crags-1aug/
END:VEVENT
END:VCALENDAR