BEGIN:VCALENDAR
VERSION:2.0
PRODID:-//eventon.com NONSGML v1.0//EN
CALSCALE:GREGORIAN
METHOD:PUBLISH
BEGIN:VEVENT
UID:69e5983926b9e
DTSTAMP:20260420T040633
DTSTART:20190706T120000Z
DTEND:20190706T203000Z
TZID:UTC
LOCATION:
SUMMARY:Heptonstall Festival
DESCRIPTION:Heptonstall Festival 2019 &#8211; Our annual family friendly free festival&#8230; live music\,  stalls\,  food\,  face-painting\,  story-telling\,  acoustic stage\,  drink\,  fell race\,  happy day! full lineup on the facebook page now!\nhttps://hebdenbridge.org/events/heptonstall-festival/
URL:https://hebdenbridge.org/events/heptonstall-festival/
END:VEVENT
END:VCALENDAR