BEGIN:VCALENDAR
VERSION:2.0
PRODID:-//eventon.com NONSGML v1.0//EN
CALSCALE:GREGORIAN
METHOD:PUBLISH
BEGIN:VEVENT
UID:69e74bfbd9737
DTSTAMP:20260421T110547
DTSTART:20190413T130000Z
DTEND:20190413T160000Z
TZID:UTC
LOCATION:
SUMMARY:Lunchtime Live at Hope Baptist Church
DESCRIPTION:Lunchtime Live at Hope Chapel gives aspiring local performers the chance to take to the stage in funky\,  creative and inclusive Hebden Bridge. Pay-as-you-can to support the performers. The second Saturday of every month\,  drop in any time between 1.00-4.00pm. &nbsp; &nbsp;\nhttps://hebdenbridge.org/events/lunchtime-live-at-hope-baptist-church/
URL:https://hebdenbridge.org/events/lunchtime-live-at-hope-baptist-church/
END:VEVENT
END:VCALENDAR