BEGIN:VCALENDAR
VERSION:2.0
PRODID:-//eventon.com NONSGML v1.0//EN
CALSCALE:GREGORIAN
METHOD:PUBLISH
BEGIN:VEVENT
UID:69e74b7ee3559
DTSTAMP:20260421T110342
DTSTART:20190422
DTEND:20190423
TZID:UTC
LOCATION:
SUMMARY:The Annual Duck Race 2019
DESCRIPTION:The annual duck race will take place on Easter Monday 22nd April.  This much-loved event organised by the Rotary Club of Hebden Bridge\,  will once again be supported by Jet2holidays and The Travel Centre. Mytholmroyd. You could WIN a family trip to Disneyland Paris\,  a couples weekend break to Hard[..]\nhttps://hebdenbridge.org/events/the-annual-duck-race-2019/
URL:https://hebdenbridge.org/events/the-annual-duck-race-2019/
END:VEVENT
END:VCALENDAR