BEGIN:VCALENDAR
VERSION:2.0
PRODID:-//eventon.com NONSGML v1.0//EN
CALSCALE:GREGORIAN
METHOD:PUBLISH
BEGIN:VEVENT
UID:69ed1d38cbf45
DTSTAMP:20260425T205952
DTSTART:20190304
DTEND:20190330
TZID:UTC
LOCATION:
SUMMARY:Exhibition: Hebden Bridge & its Railway Station
DESCRIPTION:An exhibition produced jointly by the Friends of Hebden Bridge Station and Hebden Bridge Local History Society at the Town Hall in the foyer and café area from Monday 4th March until Friday 29th March.  Core opening times Mon to Fri 9am to 3pm. Some links to films of the[..]\nhttps://hebdenbridge.org/events/exhibition-hebden-bridge-its-railway-station/
URL:https://hebdenbridge.org/events/exhibition-hebden-bridge-its-railway-station/
END:VEVENT
END:VCALENDAR