BEGIN:VCALENDAR
VERSION:2.0
PRODID:-//eventon.com NONSGML v1.0//EN
CALSCALE:GREGORIAN
METHOD:PUBLISH
BEGIN:VEVENT
UID:69e89e658280c
DTSTAMP:20260422T110941
DTSTART:20181130T130000Z
DTEND:20181202T160000Z
TZID:UTC
LOCATION:
SUMMARY:Hope Baptist Christmas Tree Festival
DESCRIPTION:We at Hope invite everyone to our Christmas Tree Festival. We have pre loved toys\,  gifts\,  handy crafts\,  bric a brac\,  books\,  cake stall\,  refreshments\,  cartoons and of course the trees plus lots lots more. Children free\,  adults £2 entry which includes programme\,  mince pie tea or coffee. We look[..]\nhttps://hebdenbridge.org/events/hope-baptist-christmas-tree-festival/
URL:https://hebdenbridge.org/events/hope-baptist-christmas-tree-festival/
END:VEVENT
END:VCALENDAR