BEGIN:VCALENDAR
VERSION:2.0
PRODID:-//eventon.com NONSGML v1.0//EN
CALSCALE:GREGORIAN
METHOD:PUBLISH
BEGIN:VEVENT
UID:69e74aef5d35f
DTSTAMP:20260421T110119
DTSTART:20180804
DTEND:20180806
TZID:UTC
LOCATION:
SUMMARY:Vintage Car Weekend
DESCRIPTION:The Vintage Weekend is an annual rally for vintage\,  veteran and classic vehicles held in the West Yorkshire Town of Hebden Bridge\,  in the heart of the South Pennines\,  with different classes on each day. Over the weekend there is huge display of over 600 cars\,  motorcycles\,  military and commercial[..]\nhttps://hebdenbridge.org/events/vintage-car-weekend/
URL:https://hebdenbridge.org/events/vintage-car-weekend/
END:VEVENT
END:VCALENDAR