BEGIN:VCALENDAR
VERSION:2.0
PRODID:-//eventon.com NONSGML v1.0//EN
CALSCALE:GREGORIAN
METHOD:PUBLISH
BEGIN:VEVENT
UID:69e4e92514b69
DTSTAMP:20260419T153933
DTSTART:20230122T200000Z
DTEND:20230122T230000Z
TZID:Pacific/Midway
LOCATION:
SUMMARY:Josie Long
DESCRIPTION:Sunday 22nd January JOSIE LONG: RE-ENCHANTMENT £14.50 | £16.50 [+10% booking fee] Doors open 7.30pm / 8pm start Seated 16+ show  Josie Long\nhttp://hebdenbridge.org/events/josie-long/
URL:http://hebdenbridge.org/events/josie-long/
END:VEVENT
END:VCALENDAR