BEGIN:VCALENDAR
VERSION:2.0
PRODID:-//eventon.com NONSGML v1.0//EN
CALSCALE:GREGORIAN
METHOD:PUBLISH
BEGIN:VEVENT
UID:69e4e7debf175
DTSTAMP:20260419T153406
DTSTART:20200603T193000Z
DTEND:20200603T210000Z
TZID:UTC
LOCATION:
SUMMARY:Slowing the Flow Together - Film Launch
DESCRIPTION:A special online film screening of Slowing The Flow Together ; a chance to see how flood risk has been reduced in Calderdale using natural methods. Slow the Flow and The National Trust have been working in partnership on an ambitious project at Hardcastle Crags near Hebden Bridge and have[..]\nhttp://hebdenbridge.org/events/slowing-the-flow-together-film-launch/
URL:http://hebdenbridge.org/events/slowing-the-flow-together-film-launch/
END:VEVENT
END:VCALENDAR