BEGIN:VCALENDAR
VERSION:2.0
PRODID:-//eventon.com NONSGML v1.0//EN
CALSCALE:GREGORIAN
METHOD:PUBLISH
BEGIN:VEVENT
UID:69e8ba127077d
DTSTAMP:20260422T130746
DTSTART:20190921T110000Z
DTEND:20190921T160000Z
TZID:UTC
LOCATION:
SUMMARY:Open Day at Birchliffe Centre
DESCRIPTION:We hope you will join us at the Birchcliffe Centre on 21st September in the 120th year of this historic building.  There’ll be refreshments\,  including cakes and coffee for a Macmillan event\,  lots of activities and a chance to find out more about the public consultation we’re undertaking to ensure the Centre’s[..]\nhttp://hebdenbridge.org/events/open-day-at-birchliffe-centre/
URL:http://hebdenbridge.org/events/open-day-at-birchliffe-centre/
END:VEVENT
END:VCALENDAR