BEGIN:VCALENDAR
VERSION:2.0
PRODID:-//eventon.com NONSGML v1.0//EN
CALSCALE:GREGORIAN
METHOD:PUBLISH
BEGIN:VEVENT
UID:69e8b9744239d
DTSTAMP:20260422T130508
DTSTART:20240717T201500Z
DTEND:20240717T211500Z
TZID:UTC
LOCATION:
SUMMARY:Lindy Hop class
DESCRIPTION:Weekly Lindy Hop class\,  beginner friendly\,  no partner required. Wear comfortable footwear and clothing. Admission £6\,  with extended social dancing on the first Wednesday of each month at no extra cost.\nhttp://hebdenbridge.org/events/lindy-hop-classes/
URL:http://hebdenbridge.org/events/lindy-hop-classes/
END:VEVENT
END:VCALENDAR